BEGIN:VCALENDAR
VERSION:2.0
PRODID:-//Liberty Action Network - ECPv6.15.20//NONSGML v1.0//EN
CALSCALE:GREGORIAN
METHOD:PUBLISH
X-ORIGINAL-URL:https://thelibertyactionnetwork.com
X-WR-CALDESC:Events for Liberty Action Network
REFRESH-INTERVAL;VALUE=DURATION:PT1H
X-Robots-Tag:noindex
X-PUBLISHED-TTL:PT1H
BEGIN:VTIMEZONE
TZID:America/New_York
BEGIN:DAYLIGHT
TZOFFSETFROM:-0500
TZOFFSETTO:-0400
TZNAME:EDT
DTSTART:20220313T070000
END:DAYLIGHT
BEGIN:STANDARD
TZOFFSETFROM:-0400
TZOFFSETTO:-0500
TZNAME:EST
DTSTART:20221106T060000
END:STANDARD
BEGIN:DAYLIGHT
TZOFFSETFROM:-0500
TZOFFSETTO:-0400
TZNAME:EDT
DTSTART:20230312T070000
END:DAYLIGHT
BEGIN:STANDARD
TZOFFSETFROM:-0400
TZOFFSETTO:-0500
TZNAME:EST
DTSTART:20231105T060000
END:STANDARD
BEGIN:DAYLIGHT
TZOFFSETFROM:-0500
TZOFFSETTO:-0400
TZNAME:EDT
DTSTART:20240310T070000
END:DAYLIGHT
BEGIN:STANDARD
TZOFFSETFROM:-0400
TZOFFSETTO:-0500
TZNAME:EST
DTSTART:20241103T060000
END:STANDARD
BEGIN:DAYLIGHT
TZOFFSETFROM:-0500
TZOFFSETTO:-0400
TZNAME:EDT
DTSTART:20250309T070000
END:DAYLIGHT
BEGIN:STANDARD
TZOFFSETFROM:-0400
TZOFFSETTO:-0500
TZNAME:EST
DTSTART:20251102T060000
END:STANDARD
END:VTIMEZONE
BEGIN:VEVENT
DTSTART;TZID=America/New_York:20230916T100000
DTEND;TZID=America/New_York:20230916T113000
DTSTAMP:20260422T060233
CREATED:20230127T120354Z
LAST-MODIFIED:20230127T120354Z
UID:10000074-1694858400-1694863800@thelibertyactionnetwork.com
SUMMARY:Wayne County Freedom Keepers
DESCRIPTION:Third Saturday of each month\, local meet up to build community around Constitutional principles and ideals. Different topics and speakers each month. January 21\, February 18\, March 18\, April 15 are the first four dates in 2023. \nMission: We exist to stand for truth and freedom\, from medical and religious freedom to freedom from the deception and lies that are permeating our current culture. We seek to build a community of truth seeking patriots\, in order to encourage and support each other as we stand up and take action to fight for the future of Wayne County.
URL:https://thelibertyactionnetwork.com/event/wayne-county-freedom-keepers/2023-09-16/
CATEGORIES:Central & Amish,Northeast
ATTACH;FMTTYPE=image/jpeg:https://thelibertyactionnetwork.com/wp-content/uploads/2023/01/WFK-graphic.jpg
END:VEVENT
BEGIN:VEVENT
DTSTART;TZID=America/New_York:20231021T100000
DTEND;TZID=America/New_York:20231021T113000
DTSTAMP:20260422T060233
CREATED:20230127T120354Z
LAST-MODIFIED:20230127T120354Z
UID:10000075-1697882400-1697887800@thelibertyactionnetwork.com
SUMMARY:Wayne County Freedom Keepers
DESCRIPTION:Third Saturday of each month\, local meet up to build community around Constitutional principles and ideals. Different topics and speakers each month. January 21\, February 18\, March 18\, April 15 are the first four dates in 2023. \nMission: We exist to stand for truth and freedom\, from medical and religious freedom to freedom from the deception and lies that are permeating our current culture. We seek to build a community of truth seeking patriots\, in order to encourage and support each other as we stand up and take action to fight for the future of Wayne County.
URL:https://thelibertyactionnetwork.com/event/wayne-county-freedom-keepers/2023-10-21/
CATEGORIES:Central & Amish,Northeast
ATTACH;FMTTYPE=image/jpeg:https://thelibertyactionnetwork.com/wp-content/uploads/2023/01/WFK-graphic.jpg
END:VEVENT
BEGIN:VEVENT
DTSTART;TZID=America/New_York:20231118T100000
DTEND;TZID=America/New_York:20231118T113000
DTSTAMP:20260422T060233
CREATED:20230127T120354Z
LAST-MODIFIED:20230127T120354Z
UID:10000076-1700301600-1700307000@thelibertyactionnetwork.com
SUMMARY:Wayne County Freedom Keepers
DESCRIPTION:Third Saturday of each month\, local meet up to build community around Constitutional principles and ideals. Different topics and speakers each month. January 21\, February 18\, March 18\, April 15 are the first four dates in 2023. \nMission: We exist to stand for truth and freedom\, from medical and religious freedom to freedom from the deception and lies that are permeating our current culture. We seek to build a community of truth seeking patriots\, in order to encourage and support each other as we stand up and take action to fight for the future of Wayne County.
URL:https://thelibertyactionnetwork.com/event/wayne-county-freedom-keepers/2023-11-18/
CATEGORIES:Central & Amish,Northeast
ATTACH;FMTTYPE=image/jpeg:https://thelibertyactionnetwork.com/wp-content/uploads/2023/01/WFK-graphic.jpg
END:VEVENT
BEGIN:VEVENT
DTSTART;TZID=America/New_York:20240120T103000
DTEND;TZID=America/New_York:20240120T233000
DTSTAMP:20260422T060233
CREATED:20240117T115806Z
LAST-MODIFIED:20240117T115806Z
UID:10000537-1705746600-1705793400@thelibertyactionnetwork.com
SUMMARY:NORTH CENTRAL OHIO - RALLY FOR LIFE MARCH
DESCRIPTION:This an annual event held in Mansfield\, Ohio in celebration of Life. \nThe venue is Central Park at the corner of Main Street (SR 13) and Park Avenue W in downtown Mansfield. 29 Park Ave. East\, 44902\, Mansfield \nThere’ll be an opening welcome at Mansfield’s Central Park Gazebo\, then a short March around the Central Park area\, followed by a presentation by Tom Dunn. The theme of the event is “No More Dead Babies (Free to Be Born)\,” and concluding with prayer. All supporters of the Sanctity of Human Life are welcome and encouraged to attend. Parking is available around and near Central Park. Signs will be available\, or you can bring your own.  For questions or more information\, please contact Greg at ProtectLifeInOhio@proton.me or (419) 468-4679 (text/cell).
URL:https://thelibertyactionnetwork.com/event/north-central-ohio-rally-for-life-march/
LOCATION:Central Park\, 29 Park Ave.\, Mansfield\, OH
CATEGORIES:Central & Amish
ATTACH;FMTTYPE=image/jpeg:https://thelibertyactionnetwork.com/wp-content/uploads/2024/01/ABORTION-NO-MORE-DEAD-BABIES-012024-1.jpg
END:VEVENT
END:VCALENDAR