BEGIN:VCALENDAR
VERSION:2.0
PRODID:-//Liberty Action Network - ECPv6.15.20//NONSGML v1.0//EN
CALSCALE:GREGORIAN
METHOD:PUBLISH
X-WR-CALNAME:Liberty Action Network
X-ORIGINAL-URL:https://thelibertyactionnetwork.com
X-WR-CALDESC:Events for Liberty Action Network
REFRESH-INTERVAL;VALUE=DURATION:PT1H
X-Robots-Tag:noindex
X-PUBLISHED-TTL:PT1H
BEGIN:VTIMEZONE
TZID:UTC
BEGIN:STANDARD
TZOFFSETFROM:+0000
TZOFFSETTO:+0000
TZNAME:UTC
DTSTART:20210101T000000
END:STANDARD
END:VTIMEZONE
BEGIN:VEVENT
DTSTART;TZID=UTC:20220106T120000
DTEND;TZID=UTC:20220106T130000
DTSTAMP:20260424T021459
CREATED:20211117T210835Z
LAST-MODIFIED:20211220T180722Z
UID:10000038-1641470400-1641474000@thelibertyactionnetwork.com
SUMMARY:CELEBRATE FREEDOM DAY - JANUARY 6TH
DESCRIPTION:The Christian Revolution was founded in September 2021 asking the question\, “Who is Funding Good?” Since that time they have raised over $500\,000 as a grant-making organization to fund good and to encourage righteous action. Since their founding\, they have funded Attorney Tom Renz and Dr. Sherry Tenpenny. In the month of December 2021\, they plan to provide over $300\,000 to organizations that are pursuing Christian Action. \nOn Thursday\, January 6\, 2022\, people will be gathering in cities and towns across the country for Celebrate Freedom Day from 12:00 – 1:00 pm. Coach Dave Daubenmire and Ohio Brett Bohl will be providing a template to make it easy and fun. To join in the effort and to begin pursuing Action & Freedom in 2022\, I encourage you to go to the website and plan to attend an event or sign-up to host an event. \nhttps://thechristianrevolution.net/
URL:https://thelibertyactionnetwork.com/event/celebrate-freedom/
LOCATION:OH
CATEGORIES:Central & Amish,Northeast,Northwest,Southeast,Southwest
END:VEVENT
END:VCALENDAR